BEGIN:VCALENDAR
VERSION:2.0
PRODID:-//eventon.com NONSGML v1.0//EN
CALSCALE:GREGORIAN
METHOD:PUBLISH
BEGIN:VEVENT
UID:69e6438fcc0fb
DTSTAMP:20260420T151735Z
DTSTART:20260627T123000Z
DTEND:20260627T215900Z
LOCATION:
SUMMARY:Fancy-fair
DESCRIPTION:\nhttps://ecoles-communales-andenne.be/events/fancy-fair-11/
URL:https://ecoles-communales-andenne.be/events/fancy-fair-11/
END:VEVENT
END:VCALENDAR