BEGIN:VCALENDAR
VERSION:2.0
PRODID:-//eventon.com NONSGML v1.0//EN
CALSCALE:GREGORIAN
METHOD:PUBLISH
BEGIN:VEVENT
UID:69e62d0e55a97
DTSTAMP:20260420T134134Z
DTSTART:20260704T083000Z
DTEND:20260823T153000Z
LOCATION:
SUMMARY:Vacances d'été
DESCRIPTION:\nhttps://ecoles-communales-andenne.be/events/vacances-dete/
URL:https://ecoles-communales-andenne.be/events/vacances-dete/
END:VEVENT
END:VCALENDAR